Workbook
Name academy: #REF!
Name academy: #REF!
Name academy: #REF!
Name あ: #REF!
Name あ: #REF!
Name あ: #REF!

Sheet 申込書
A1: 専門基礎模試･人体の構造と機能模試
A2: 学校団体受験申込書
A4: ●学校情報入力 | C4: 下記太枠内にご入力ください。 ※1 模試セットの送付先に指定がある場合、住所欄には送付先住所をご入力ください。
A5: 申込日 | E5: 年 | H5: 月 | K5: 日
A6: 貴校名
A7: 貴校住所 ※1 | C7: 〒
A9: フリガナ
A10: ご担当先生名
A11: TEL
A12: メールアドレス
A14: ●模試申込 | C14: 模試は原則、貴校内での実施となります。貴校内以外の場所でのご実施をご希望の場合は、お申込みの校舎にご相談ください。
C15: 下記赤枠に受験人数をご入力いただき、該当項目を選択してください(青色のセルをクリックして表示される｢▽｣から○を選択)
A16: 種別 | C16: 専門基礎模試(第1回) 2027/4/19～7/25 | I16: 専門基礎模試(第2回) 2027/12/13～2028/3/26 | O16: 人体の構造と機能模試 2027/12/13～2028/3/26
A17: 実施予定日※1 | F17: 月 | H17: 日 | L17: 月 | N17: 日 | R17: 月 | T17: 日
A18: 受験人数※2 (合計5名以上） いずれかの赤枠内に 人数を入力してください。 | C18: 今年度 初回申込の場合⇒ | F18: 0 | H18: 名 | I18: 今年度 初回申込の場合⇒ | L18: 0 | N18: 名 | O18: 今年度 初回申込の場合⇒ | R18: 0 | T18: 名
C19: 追加申込の場合⇒ | F19: 0 | H19: 名 | I19: 追加申込の場合⇒ | L19: 0 | N19: 名 | O19: 追加申込の場合⇒ | R19: 0 | T19: 名
C20: 合計 | E20: =SUM(F18:F19) -> 0 | H20: 名 | I20: 合計 | K20: =SUM(L18:L19) -> 0 | N20: 名 | O20: 合計 | Q20: =SUM(R18:R19) -> 0 | T20: 名
A21: 国試受験年度 （模試受験生の 本試験受験年度） | C21: ※プルダウンよりお選びください | I21: ※プルダウンよりお選びください | O21: ※プルダウンよりお選びください
A22: ★学校別個人成績一覧 （先生向け資料）の形式 (いずれかを選択） ②③はクラス別成績表の ご希望がある場合のみ 選択可 | D22: ①学校全体 | J22: ①学校全体 | P22: ①学校全体
D23: ②クラス別 | J23: ②クラス別 | P23: ②クラス別
D24: ③学校全体・クラス別の両方 | J24: ③学校全体・クラス別の両方 | P24: ③学校全体・クラス別の両方
A25: ★個人成績表に掲載する 団体人数 （こちらを元に団体内の 順位等を表示します） (いずれかを選択） | D25: ①学校全体の人数 | J25: ①学校全体の人数 | P25: ①学校全体の人数
D26: ②その他（クラス人数／学年人数 など） | J26: ②その他（クラス人数／学年人数 など） | P26: ②その他（クラス人数／学年人数 など）
A28: 受験料 | C28: 1300 | E28: 円 × | F28: =SUM(F18:F19) -> 0 | H28: 名 | I28: 1300 | K28: 円 × | L28: =SUM(L18:L19) -> 0 | N28: 名 | O28: 800 | Q28: 円 × | R28: =SUM(R18:R19) -> 0 | T28: 名
C29: 合計 ￥ | E29: =C28*F28 -> 0 | I29: 合計 ￥ | K29: =I28*L28 -> 0 | O29: 合計 ￥ | Q29: =O28*R28 -> 0
O30: 総合計 ￥ | Q30: =SUM(E29+K29+Q29) -> 0
A31: ※1 貴校での「実施予定日」を入力してください。 お届け時期のご希望がある場合は、お申込みの校舎にご相談ください。
A32: ※2 団体模試は5名以上からの受付となります。4名未満の場合は、東京アカデミーHP 個人お申込みフォームよりお申込みください。
A33: お申込み後に人数変更をご希望の場合は、お申込みの校舎までご相談ください。（受験者追加による不足の場合は追加でお送りいたします）
A36: ●ご請求先情報 | C36: 必要事項をご入力いただき、該当項目を入力してください。(青色のセルをクリックして表示される｢▽｣から○を選択)
A37: ご請求先名 必須
A38: ご請求書発行希望時期 必須 （いずれかを選択） | D38: ①低学年模試（複数回分）の請求をまとめて発行 （2027年12月～2028年3月発行） | J38: ②都度発行 または 低学年模試を1種類のみ受験 （第1回…お支払い期限2028年2月末日まで 第2回・人体…お支払い期限2028年3月末日まで）
D39: ③その他⇒ （早期発行希望など）
A40: 請求書発行方法 必須 （いずれかを選択） | D40: ①SMBCクラウドサインで発行を希望 | J40: ②PDFをメール添付で送信希望
C41: 東京アカデミー 全国公開模試の請求書は、SMBCクラウドサイン※ またはPDFをメール送信の形で発行・お届けいたします。（紙の請求書の発行は廃止させていただいております） なお、請求書および発行に関してその他ご要望がございましたら、「その他ご請求に関してご要望」欄にご入力ください。
A43: 請求書承認者名 （クラウドサインの場合） | J43: ※請求書はこちらの宛名で送信をいたします。
A44: 請求書承認者 メールアドレス （クラウドサインの場合） | J44: ※請求書はこちらのアドレスに送信いたします。
A45: その他ご請求に関して ご要望（あれば）
A46: ※学校団体様でのクラウドサインの事前ご登録は不要です。請求書ご確認・承認用URLおよび請求書PDFはメールで届きますので、承認後、期日までにお支払いください。
A47: ※各模試の答案締切は、パンフレット記載の通りです。貴校内でのご実施後は、速やかに答案を模試センター（大阪市）までご送付ください。

Sheet 専門基礎模試　受験者一覧
A1: 看護師国家試験 専門基礎模試 受験者一覧
C3: 学校名 | D3: =IF(申込書!C6="","",申込書!C6) | I3: 東京アカデミー教務記入欄
C4: フリガナ | D4: =IF(申込書!C9="","",申込書!C9)
C5: ご担当先生名 | D5: =IF(申込書!C10="","",申込書!C10) | I5: 親契約に使用する学校団体の会員番号が昨年度から変わる場合、 会員番号と会員名をご入力ください。 (例)12345678 東アカ看護学校
I7: ・個人成績表の「学校別成績」欄に表示される団体母数(必須) | M7: =IF($M$12=2,"入力必須","")
L8: 母数にするクラスコード→
I9: ・PS会員番号引継ぎ希望 | M9: FALSE
I10: ・受験番号引継ぎ希望 | M10: FALSE
I11: ・2026年度又は2027年度低学年模試受験
A12: 東京アカデミー記入欄 | C12: ご担当先生記入欄 （※部分は入力必須です） | I12: ・その他引継ぎ事項 （あれば） | M12: 1
A13: № | B13: 受験番号 | C13: ※氏 名 (システムに対応していない旧字体の場合、新字体もしくはカタカナで登録いたします） | D13: ※フリガナ(全角カタカナ) | E13: ※メールアドレス（半角英数） | F13: 生年月日 (西暦８桁) | G13: クラス （クラス別成績表をご希望の場合） | H13: 備考 （あれば） | I13: クラスコード2 | J13: クラスコード3 | K13: PS会員番号 （昨年以前のものを継続の場合） | L13: 受験番号 （昨年以前のものを継続の場合） | M13: 備考
G14: =IF(OR(申込書!$C$23<>"",申込書!$C$24<>"",申込書!$I$23<>"",申込書!$I$24<>""),"※入力必須","") | I14: =IF(OR($M$12=2, $M$12=3),"入力必須","")
A15: 例 | B15: ※お申込みの受理後、採番し入力いたします。 | C15: 東京 花子 | D15: トウキョウ ハナコ | E15: ○○○○＠□□□□ | F15: 20190101 | G15: クラスA | H15: 2年生 | I15: 1 | K15: 12345678 | L15: 123456789000
A16: 1
A17: 2
A18: 3
A19: 4
A20: 5
A21: 6
A22: 7
A23: 8
A24: 9
A25: 10
A26: 11
A27: 12
... A115: 100

Sheet 人体の構造と機能模試　受験者一覧
A1: 看護師国家試験対策 人体の構造と機能模試 受験者一覧
C3: 学校名 | D3: =IF(申込書!C6="","",申込書!C6) | I3: 東京アカデミー教務記入欄
C4: フリガナ | D4: =IF(申込書!C9="","",申込書!C9)
C5: ご担当先生名 | D5: =IF(申込書!C10="","",申込書!C10) | I5: 親契約に使用する学校団体の会員番号が昨年度から変わる場合、 会員番号と会員名をご入力ください。 (例)12345678 東アカ看護学校
I7: ・個人成績表の「学校別成績」欄に表示される団体母数(必須) | M7: =IF($M$12=2,"入力必須","")
L8: 母数にするクラスコード→
I9: ・PS会員番号引継ぎ希望 | M9: FALSE
I10: ・受験番号引継ぎ希望 | M10: FALSE
I11: ・2026年度又は2027年度低学年模試受験
A12: 東京アカデミー記入欄 | C12: ご担当先生記入欄 （※部分は入力必須です） | I12: ・その他引継ぎ事項 （あれば） | M12: 1
A13: № | B13: 受験番号 | C13: ※氏 名 (システムに対応していない旧字体の場合、新字体もしくはカタカナで登録いたします） | D13: ※フリガナ(全角カタカナ) | E13: ※メールアドレス（半角英数） | F13: 生年月日 (西暦８桁) | G13: クラス （クラス別成績表をご希望の場合） | H13: 備考 （あれば） | I13: クラスコード2 | J13: クラスコード3 | K13: PS会員番号 （昨年以前のものを継続の場合） | L13: 受験番号 （昨年以前のものを継続の場合） | M13: 備考
G14: =IF(OR(申込書!$O$23<>"",申込書!$O$24<>""),"※入力必須","") | I14: =IF(OR($M$12=2, $M$12=3),"入力必須","")
A15: 例 | B15: ※お申込みの受理後、採番し入力いたします。 | C15: 東京 花子 | D15: トウキョウ ハナコ | E15: ○○○○＠□□□□ | F15: 20190101 | G15: クラスA | H15: 2年生 | I15: 1 | K15: 12345678 | L15: 123456789000
A16: 1
A17: 2
A18: 3
A19: 4
A20: 5
A21: 6
A22: 7
A23: 8
A24: 9
A25: 10
A26: 11
A27: 12
... A115: 100

Sheet リスト
A2: ○ | B2: 2027年4 | C2: 1 | D2: 1年 | E2: ※プルダウンよりお選びください
B3: 2027年5 | C3: 2 | D3: 2年 | E3: 第117回（2028年2月本試験予定）
B4: 2027年6 | C4: 3 | D4: 3年 | E4: 第118回（2029年2月本試験予定）
B5: 2027年7 | C5: 4 | D5: 4年 | E5: 第119回（2030年2月本試験予定）
B6: 2027年8 | C6: 5 | E6: 第120回（2031年2月本試験予定）
B7: 2027年9 | C7: 6 | E7: 第121回（2032年2月本試験予定）
B8: 2027年10 | C8: 7 | E8: 第122回（2033年2月本試験予定）
B9: 2027年11 | C9: 8
B10: 2027年12 | C10: 9
B11: 2028年1 | C11: 10
B12: 2028年2 | C12: 11
B13: 2028年3 | C13: 12
C14: 13
C15: 14
C16: 15
C17: 16
C18: 17
C19: 18
C20: 19
C21: 20
C22: 21
C23: 22
C24: 23
C25: 24
... C32: 31
