Workbook
Name academy: #REF!
Name academy: #REF!
Name academy: #REF!
Name あ: #REF!
Name あ: #REF!
Name あ: #REF!
Name 必修クラス別: 申込書!$R$25:$R$26

Sheet 申込書
A1: 第117回 看護師国家試験対策 全国公開模試･必修問題模試
A2: 学校団体受験申込書<各回個別申込用>
A3: ※セット申込(割引受験料適用)の場合は｢セット申込専用申込書｣をご利用ください。
A5: ●学校情報入力 | C5: 下記太枠内にご入力ください。 ※1 模試セット送付先に指定がある場合、送付先住所をご入力ください。
A6: 申込日 | E6: 年 | H6: 月 | K6: 日
A7: 貴校名
A8: 貴校住所 ※1 | C8: 〒
A10: フリガナ
A11: ご担当先生名
A12: TEL
A13: メールアドレス
A15: ●模試申込 | C15: 模試は原則、貴校内での実施となります。貴校内以外の場所でのご実施をご希望の場合は、お申込みの校舎にご相談ください。
C16: 下記赤枠に受験人数をご入力いただき、該当項目を選択してください(色付きのセルをクリックして表示される｢▽｣から○を選択)
A17: 種別 | C17: 全国公開模試(第1回) 2027/3/29～2028/1/23 | H17: 全国公開模試(第2回) 2027/9/20～2028/1/23 | M17: 全国公開模試(第3回) 2027/11/8～2028/1/23 | R17: 必修問題模試 2027/3/29～2028/1/23
A19: 実施予定日※1 | E19: 月 | G19: 日 | J19: 月 | L19: 日 | O19: 月 | Q19: 日 | T19: 月 | V19: 日
A20: 受験人数※2 (合計5名以上） いずれかの赤枠内に人数を 入力してください。 | C20: 今年度 初回申込の場合⇒ | E20: 0 | G20: 名 | H20: 今年度 初回申込の場合⇒ | J20: 0 | L20: 名 | M20: 今年度 初回申込の場合⇒ | O20: 0 | Q20: 名 | R20: 今年度 初回申込の場合⇒ | T20: 0 | V20: 名
C21: 追加申込の場合⇒ | E21: 0 | G21: 名 | H21: 追加申込の場合⇒ | J21: 0 | L21: 名 | M21: 追加申込の場合⇒ | O21: 0 | Q21: 名 | R21: 追加申込の場合⇒ | T21: 0 | V21: 名
C22: 合計 | E22: =SUM(E20:E21) -> 0 | G22: 名 | H22: 合計 | J22: =SUM(J20:J21) -> 0 | L22: 名 | M22: 合計 | O22: =SUM(O20:O21) -> 0 | Q22: 名 | R22: 合計 | T22: =SUM(T20:T21) -> 0 | V22: 名
A23: 模試受験生の 本試験受験年度 (今年度本試験受験の方は第117回） | C23: ※プルダウンよりお選びください | H23: ※プルダウンよりお選びください | M23: ※プルダウンよりお選びください | R23: ※プルダウンよりお選びください
A24: ★学校別個人成績一覧 （先生向け資料）の形式 (いずれかを選択） ②③はクラス別成績表のご希望が ある場合のみ選択可 | D24: ①学校全体 | I24: ①学校全体 | N24: ①学校全体 | S24: ①学校全体
D25: ②クラス別 | I25: ②クラス別 | N25: ②クラス別 | S25: ②クラス別
D26: ③学校全体・クラス別の両方 | I26: ③学校全体・クラス別の両方 | N26: ③学校全体・クラス別の両方 | S26: ③学校全体・クラス別の両方
A27: ★個人成績表に掲載する 団体人数（こちらを元に 団体内の順位等を表示します） (いずれかを選択） | D27: ①学校全体の人数 | I27: ①学校全体の人数 | N27: ①学校全体の人数 | S27: ①学校全体の人数
D28: ②その他（クラス人数／学年人数 など） | I28: ②その他（クラス人数／学年人数 など） | N28: ②その他（クラス人数／学年人数 など） | S28: ②その他（クラス人数／学年人数 など）
A30: 受験料 | C30: 1800 | D30: 円 × | E30: =SUM(E20:E21) -> 0 | G30: 名 | H30: 1800 | I30: 円 × | J30: =SUM(J20:J21) -> 0 | L30: 名 | M30: 1800 | N30: 円 × | O30: =SUM(O20:O21) -> 0 | Q30: 名 | R30: 1300 | S30: 円 × | T30: =SUM(T20:T21) -> 0 | V30: 名
C31: 合計 ￥ | E31: =C30*E30 -> 0 | H31: 合計 ￥ | J31: =H30*J30 -> 0 | M31: 合計 ￥ | O31: =M30*O30 -> 0 | R31: 合計 ￥ | T31: =R30*T30 -> 0
C32: 総合計 ￥ | R32: =SUM(E31:J31:O31:T31) -> 0
A33: ※1 貴校内の実施予定日を入力してください。お届け時期のご希望がある場合は、お申込みの校舎にご相談ください。
A34: ※2 団体模試は5名以上からの受付となります。4名未満の場合は、東京アカデミーHP 個人お申込みフォームよりお申込みください。
A35: お申込み後に人数変更をご希望の場合は、お申込みの校舎までご相談ください。（受験者追加による不足の場合は追加でお送りいたします）
A37: ●ご請求先情報 | C37: 必要事項をご入力いただき、該当項目を選択してください。
A38: ご請求先名 必須 | M38: 必須 項目 （共通）
A39: ご請求書発行希望時期 必須 （いずれかを選択） いずれもお支払い期限は同じです。 | D39: ①各模試実施後 | G39: ②全模試終了後 まとめて | J39: ③その他 ➡
A40: 請求書発行方法 必須 （いずれかを選択） | D40: ①SMBCクラウドサインで発行を希望 | I40: ②PDFをメール添付で送信希望
C41: 東京アカデミー 全国公開模試の請求書は、SMBCクラウドサイン※ またはPDFをメール送信の形で発行・お届けいたします。（紙の請求書の発行は廃止させていただいております） なお、請求書および発行に関してその他ご要望がございましたら、「その他ご請求に関してご要望」欄にご入力ください。
A43: 請求書承認者名 （クラウドサインの場合） | J43: ※請求書はこちらの宛名で送信いたします。
A44: 請求書承認者 メールアドレス （クラウドサインの場合） | J44: ※請求書はこちらのアドレスに送信いたします。
A45: その他ご請求に関して ご要望（あれば）
A46: ※学校団体様でのクラウドサインの事前ご登録は不要です。請求書ご確認・承認用URLおよび請求書PDFはメールで届きますので、承認後、期日（2028年2月末）までにお支払いください。
A47: ※各模試の答案締切は、パンフレット記載の通りです。貴校内でのご実施後は、速やかに答案を模試センター（大阪市）までご送付ください。
...

Sheet 各回個別申込　看護師 全国公開模試 受験者一覧
A1: 看護師国家試験対策 全国公開模試（各回個別申込） 受験者一覧
C3: 学校名 | D3: =IF(申込書!C7="","",申込書!C7) | I3: 東京アカデミー教務記入欄
C4: フリガナ | D4: =IF(申込書!C10="","",申込書!C10)
C5: ご担当先生名 | D5: =IF(申込書!C11="","",申込書!C11) | I5: 親契約に使用する学校団体の会員番号が昨年度から変わる場合、 会員番号と会員名をご入力ください。 (例)12345678 東アカ看護学校
I7: ・個人成績表の「学校別成績」欄に表示される団体母数(必須) | M7: =IF($M$12=2,"入力必須","")
L8: 母数にするクラスコード→
I9: ・PS会員番号引継ぎ希望 | M9: FALSE
I10: ・受験番号引継ぎ希望 | M10: FALSE
I11: ・2026年度又は2027年度低学年模試受験
A12: 東京アカデミー記入欄 | C12: ご担当先生記入欄 （※部分は入力必須です） | I12: ・その他引継ぎ事項 （あれば） | M12: 1
A13: № | B13: 受験番号 | C13: ※氏 名 (システムに対応していない旧字体の場合、新字体もしくはカタカナで登録いたします） | D13: ※フリガナ(全角カタカナ) | E13: ※メールアドレス（半角英数） | F13: 生年月日 (西暦８桁) | G13: クラス （クラス別成績表をご希望の場合） | H13: 備考 （あれば） | I13: クラスコード2 | J13: クラスコード3 | K13: PS会員番号 （昨年以前のものを継続の場合） | L13: 受験番号 （昨年以前のものを継続の場合） | M13: 備考
G14: =IF(OR(申込書!$C$25<>"",申込書!$H$25<>"",申込書!$M$25<>"",申込書!$C$26<>"",申込書!$H$26<>"",申込書!$M$26<>""),"※入力必須","") | I14: =IF($M$12=2,"入力必須","")
A15: 例 | B15: ※お申込みの受理後、採番し入力いたします。 | C15: 東京 花子 | D15: トウキョウ ハナコ | E15: ○○○○＠□□□□ | F15: 20190101 | G15: クラスA | H15: 3年生 | I15: 1 | K15: 12345678 | L15: 123456789000
A16: 1
A17: 2
A18: 3
A19: 4
A20: 5
A21: 6
A22: 7
A23: 8
A24: 9
A25: 10
A26: 11
A27: 12
... A215: 200

Sheet 各回個別申込 看護師 必修問題模試 受験者一覧
A1: 看護師国家試験対策 必修問題模試（各回個別申込） 受験者一覧
C3: 学校名 | D3: =IF(申込書!C7="","",申込書!C7) | I3: 東京アカデミー教務記入欄
C4: フリガナ | D4: =IF(申込書!C10="","",申込書!C10)
C5: ご担当先生名 | D5: =IF(申込書!C11="","",申込書!C11) | I5: 親契約に使用する学校団体の会員番号が昨年度から変わる場合、 会員番号と会員名をご入力ください。 (例)12345678 東アカ看護学校
I7: ・個人成績表の「学校別成績」欄に表示される団体母数(必須) | M7: =IF($M$12=2,"入力必須","")
L8: 母数にするクラスコード→
I9: ・PS会員番号引継ぎ希望 | M9: FALSE
I10: ・受験番号引継ぎ希望 | M10: FALSE
I11: ・2026年度又は2027年度低学年模試受験
A12: 東京アカデミー記入欄 | C12: ご担当先生記入欄 （※部分は入力必須です） | I12: ・その他引継ぎ事項 （あれば） | M12: 1
A13: № | B13: 受験番号 | C13: ※氏 名 (システムに対応していない旧字体の場合、新字体もしくはカタカナで登録いたします） | D13: ※フリガナ(全角カタカナ) | E13: ※メールアドレス（半角英数） | F13: 生年月日 (西暦８桁) | G13: クラス （クラス別成績表をご希望の場合） | H13: 備考 （あれば） | I13: クラスコード2 | J13: クラスコード3 | K13: PS会員番号 （昨年以前のものを継続の場合） | L13: 受験番号 （昨年以前のものを継続の場合） | M13: 備考
G14: =IF(OR(申込書!$R$25<>"",申込書!$R$26<>""),"※入力必須","") | I14: =IF($M$12=2,"入力必須","")
A15: 例 | B15: ※お申込みの受理後、採番し入力いたします。 | C15: 東京 花子 | D15: トウキョウ ハナコ | E15: ○○○○＠□□□□ | F15: 20190101 | G15: クラスA | H15: 3年生 | I15: 1 | K15: 12345678 | L15: 123456789000
A16: 1
A17: 2
A18: 3
A19: 4
A20: 5
A21: 6
A22: 7
A23: 8
A24: 9
A25: 10
A26: 11
A27: 12
... A215: 200

Sheet リスト
A2: ○ | B2: 4 | C2: 1 | D2: 1年 | E2: ※プルダウンよりお選びください
B3: 5 | C3: 2 | D3: 2年 | E3: 第117回（2028年2月本試験予定）
B4: 6 | C4: 3 | D4: 3年 | E4: 第118回（2029年2月本試験予定）
C5: 4 | D5: 4年 | E5: 第119回（2030年2月本試験予定）
C6: 5 | E6: 第120回（2031年2月本試験予定）
C7: 6 | E7: 第121回（2032年2月本試験予定）
C8: 7
C9: 8
C10: 9
B11: 2027年12 | C11: 10
B12: 2028年1 | C12: 11
B13: 2028年2 | C13: 12
B14: 2028年3 | C14: 13
C15: 14
C16: 15
C17: 16
C18: 17
C19: 18
C20: 19
C21: 20
C22: 21
C23: 22
C24: 23
C25: 24
C26: 25
... C32: 31
